<VRTDataset rasterXSize="800000" rasterYSize="1200000">
  <SRS dataAxisToSRSAxisMapping="1,2">PROJCS["ETRS89 / TM35FIN(E,N)",GEOGCS["ETRS89",DATUM["European_Terrestrial_Reference_System_1989",SPHEROID["GRS 1980",6378137,298.257222101,AUTHORITY["EPSG","7019"]],AUTHORITY["EPSG","6258"]],PRIMEM["Greenwich",0,AUTHORITY["EPSG","8901"]],UNIT["degree",0.0174532925199433,AUTHORITY["EPSG","9122"]],AUTHORITY["EPSG","4258"]],PROJECTION["Transverse_Mercator"],PARAMETER["latitude_of_origin",0],PARAMETER["central_meridian",27],PARAMETER["scale_factor",0.9996],PARAMETER["false_easting",500000],PARAMETER["false_northing",0],UNIT["metre",1,AUTHORITY["EPSG","9001"]],AXIS["Easting",EAST],AXIS["Northing",NORTH],AUTHORITY["EPSG","3067"]]</SRS>
  <GeoTransform>  0.0000000000000000e+00,  1.0000000000000000e+00,  0.0000000000000000e+00,  7.8000000000000000e+06,  0.0000000000000000e+00, -1.0000000000000000e+00</GeoTransform>
  <VRTRasterBand dataType="Int16" band="1">
    <Metadata>
      <MDI key="STATISTICS_MAXIMUM">3279</MDI>
      <MDI key="STATISTICS_MEAN">56.943071589089</MDI>
      <MDI key="STATISTICS_MINIMUM">0</MDI>
      <MDI key="STATISTICS_STDDEV">68.387569991795</MDI>
      <MDI key="STATISTICS_VALID_PERCENT">31.04</MDI>
    </Metadata>
    <NoDataValue>-32768</NoDataValue>
    <ColorInterp>Gray</ColorInterp>
    <ComplexSource>
      <SourceFilename relativeToVRT="0">/vsicurl/https://vm0160.kaj.pouta.csc.fi/palus/ndsm/2024/ndsm_2024_0_6700000.tif</SourceFilename>
      <SourceBand>1</SourceBand>
      <SourceProperties RasterXSize="100000" RasterYSize="100000" DataType="Int16" BlockXSize="256" BlockYSize="256" />
      <SrcRect xOff="0" yOff="0" xSize="100000" ySize="100000" />
      <DstRect xOff="0" yOff="1100000" xSize="100000" ySize="100000" />
      <NODATA>-32768</NODATA>
    </ComplexSource>
    <ComplexSource>
      <SourceFilename relativeToVRT="0">/vsicurl/https://vm0160.kaj.pouta.csc.fi/palus/ndsm/2024/ndsm_2024_0_6800000.tif</SourceFilename>
      <SourceBand>1</SourceBand>
      <SourceProperties RasterXSize="100000" RasterYSize="100000" DataType="Int16" BlockXSize="256" BlockYSize="256" />
      <SrcRect xOff="0" yOff="0" xSize="100000" ySize="100000" />
      <DstRect xOff="0" yOff="1000000" xSize="100000" ySize="100000" />
      <NODATA>-32768</NODATA>
    </ComplexSource>
    <ComplexSource>
      <SourceFilename relativeToVRT="0">/vsicurl/https://vm0160.kaj.pouta.csc.fi/palus/ndsm/2024/ndsm_2024_100000_6700000.tif</SourceFilename>
      <SourceBand>1</SourceBand>
      <SourceProperties RasterXSize="100000" RasterYSize="100000" DataType="Int16" BlockXSize="256" BlockYSize="256" />
      <SrcRect xOff="0" yOff="0" xSize="100000" ySize="100000" />
      <DstRect xOff="100000" yOff="1100000" xSize="100000" ySize="100000" />
      <NODATA>-32768</NODATA>
    </ComplexSource>
    <ComplexSource>
      <SourceFilename relativeToVRT="0">/vsicurl/https://vm0160.kaj.pouta.csc.fi/palus/ndsm/2024/ndsm_2024_100000_6800000.tif</SourceFilename>
      <SourceBand>1</SourceBand>
      <SourceProperties RasterXSize="100000" RasterYSize="100000" DataType="Int16" BlockXSize="256" BlockYSize="256" />
      <SrcRect xOff="0" yOff="0" xSize="100000" ySize="100000" />
      <DstRect xOff="100000" yOff="1000000" xSize="100000" ySize="100000" />
      <NODATA>-32768</NODATA>
    </ComplexSource>
    <ComplexSource>
      <SourceFilename relativeToVRT="0">/vsicurl/https://vm0160.kaj.pouta.csc.fi/palus/ndsm/2024/ndsm_2024_100000_6900000.tif</SourceFilename>
      <SourceBand>1</SourceBand>
      <SourceProperties RasterXSize="100000" RasterYSize="100000" DataType="Int16" BlockXSize="256" BlockYSize="256" />
      <SrcRect xOff="0" yOff="0" xSize="100000" ySize="100000" />
      <DstRect xOff="100000" yOff="900000" xSize="100000" ySize="100000" />
      <NODATA>-32768</NODATA>
    </ComplexSource>
    <ComplexSource>
      <SourceFilename relativeToVRT="0">/vsicurl/https://vm0160.kaj.pouta.csc.fi/palus/ndsm/2024/ndsm_2024_100000_7000000.tif</SourceFilename>
      <SourceBand>1</SourceBand>
      <SourceProperties RasterXSize="100000" RasterYSize="100000" DataType="Int16" BlockXSize="256" BlockYSize="256" />
      <SrcRect xOff="0" yOff="0" xSize="100000" ySize="100000" />
      <DstRect xOff="100000" yOff="800000" xSize="100000" ySize="100000" />
      <NODATA>-32768</NODATA>
    </ComplexSource>
    <ComplexSource>
      <SourceFilename relativeToVRT="0">/vsicurl/https://vm0160.kaj.pouta.csc.fi/palus/ndsm/2024/ndsm_2024_100000_7100000.tif</SourceFilename>
      <SourceBand>1</SourceBand>
      <SourceProperties RasterXSize="100000" RasterYSize="100000" DataType="Int16" BlockXSize="256" BlockYSize="256" />
      <SrcRect xOff="0" yOff="0" xSize="100000" ySize="100000" />
      <DstRect xOff="100000" yOff="700000" xSize="100000" ySize="100000" />
      <NODATA>-32768</NODATA>
    </ComplexSource>
    <ComplexSource>
      <SourceFilename relativeToVRT="0">/vsicurl/https://vm0160.kaj.pouta.csc.fi/palus/ndsm/2024/ndsm_2024_200000_6700000.tif</SourceFilename>
      <SourceBand>1</SourceBand>
      <SourceProperties RasterXSize="100000" RasterYSize="100000" DataType="Int16" BlockXSize="256" BlockYSize="256" />
      <SrcRect xOff="0" yOff="0" xSize="100000" ySize="100000" />
      <DstRect xOff="200000" yOff="1100000" xSize="100000" ySize="100000" />
      <NODATA>-32768</NODATA>
    </ComplexSource>
    <ComplexSource>
      <SourceFilename relativeToVRT="0">/vsicurl/https://vm0160.kaj.pouta.csc.fi/palus/ndsm/2024/ndsm_2024_200000_6800000.tif</SourceFilename>
      <SourceBand>1</SourceBand>
      <SourceProperties RasterXSize="100000" RasterYSize="100000" DataType="Int16" BlockXSize="256" BlockYSize="256" />
      <SrcRect xOff="0" yOff="0" xSize="100000" ySize="100000" />
      <DstRect xOff="200000" yOff="1000000" xSize="100000" ySize="100000" />
      <NODATA>-32768</NODATA>
    </ComplexSource>
    <ComplexSource>
      <SourceFilename relativeToVRT="0">/vsicurl/https://vm0160.kaj.pouta.csc.fi/palus/ndsm/2024/ndsm_2024_200000_6900000.tif</SourceFilename>
      <SourceBand>1</SourceBand>
      <SourceProperties RasterXSize="100000" RasterYSize="100000" DataType="Int16" BlockXSize="256" BlockYSize="256" />
      <SrcRect xOff="0" yOff="0" xSize="100000" ySize="100000" />
      <DstRect xOff="200000" yOff="900000" xSize="100000" ySize="100000" />
      <NODATA>-32768</NODATA>
    </ComplexSource>
    <ComplexSource>
      <SourceFilename relativeToVRT="0">/vsicurl/https://vm0160.kaj.pouta.csc.fi/palus/ndsm/2024/ndsm_2024_200000_7000000.tif</SourceFilename>
      <SourceBand>1</SourceBand>
      <SourceProperties RasterXSize="100000" RasterYSize="100000" DataType="Int16" BlockXSize="256" BlockYSize="256" />
      <SrcRect xOff="0" yOff="0" xSize="100000" ySize="100000" />
      <DstRect xOff="200000" yOff="800000" xSize="100000" ySize="100000" />
      <NODATA>-32768</NODATA>
    </ComplexSource>
    <ComplexSource>
      <SourceFilename relativeToVRT="0">/vsicurl/https://vm0160.kaj.pouta.csc.fi/palus/ndsm/2024/ndsm_2024_200000_7100000.tif</SourceFilename>
      <SourceBand>1</SourceBand>
      <SourceProperties RasterXSize="100000" RasterYSize="100000" DataType="Int16" BlockXSize="256" BlockYSize="256" />
      <SrcRect xOff="0" yOff="0" xSize="100000" ySize="100000" />
      <DstRect xOff="200000" yOff="700000" xSize="100000" ySize="100000" />
      <NODATA>-32768</NODATA>
    </ComplexSource>
    <ComplexSource>
      <SourceFilename relativeToVRT="0">/vsicurl/https://vm0160.kaj.pouta.csc.fi/palus/ndsm/2024/ndsm_2024_200000_7200000.tif</SourceFilename>
      <SourceBand>1</SourceBand>
      <SourceProperties RasterXSize="100000" RasterYSize="100000" DataType="Int16" BlockXSize="256" BlockYSize="256" />
      <SrcRect xOff="0" yOff="0" xSize="100000" ySize="100000" />
      <DstRect xOff="200000" yOff="600000" xSize="100000" ySize="100000" />
      <NODATA>-32768</NODATA>
    </ComplexSource>
    <ComplexSource>
      <SourceFilename relativeToVRT="0">/vsicurl/https://vm0160.kaj.pouta.csc.fi/palus/ndsm/2024/ndsm_2024_200000_7700000.tif</SourceFilename>
      <SourceBand>1</SourceBand>
      <SourceProperties RasterXSize="100000" RasterYSize="100000" DataType="Int16" BlockXSize="256" BlockYSize="256" />
      <SrcRect xOff="0" yOff="0" xSize="100000" ySize="100000" />
      <DstRect xOff="200000" yOff="100000" xSize="100000" ySize="100000" />
      <NODATA>-32768</NODATA>
    </ComplexSource>
    <ComplexSource>
      <SourceFilename relativeToVRT="0">/vsicurl/https://vm0160.kaj.pouta.csc.fi/palus/ndsm/2024/ndsm_2024_300000_6700000.tif</SourceFilename>
      <SourceBand>1</SourceBand>
      <SourceProperties RasterXSize="100000" RasterYSize="100000" DataType="Int16" BlockXSize="256" BlockYSize="256" />
      <SrcRect xOff="0" yOff="0" xSize="100000" ySize="100000" />
      <DstRect xOff="300000" yOff="1100000" xSize="100000" ySize="100000" />
      <NODATA>-32768</NODATA>
    </ComplexSource>
    <ComplexSource>
      <SourceFilename relativeToVRT="0">/vsicurl/https://vm0160.kaj.pouta.csc.fi/palus/ndsm/2024/ndsm_2024_300000_6800000.tif</SourceFilename>
      <SourceBand>1</SourceBand>
      <SourceProperties RasterXSize="100000" RasterYSize="100000" DataType="Int16" BlockXSize="256" BlockYSize="256" />
      <SrcRect xOff="0" yOff="0" xSize="100000" ySize="100000" />
      <DstRect xOff="300000" yOff="1000000" xSize="100000" ySize="100000" />
      <NODATA>-32768</NODATA>
    </ComplexSource>
    <ComplexSource>
      <SourceFilename relativeToVRT="0">/vsicurl/https://vm0160.kaj.pouta.csc.fi/palus/ndsm/2024/ndsm_2024_300000_6900000.tif</SourceFilename>
      <SourceBand>1</SourceBand>
      <SourceProperties RasterXSize="100000" RasterYSize="100000" DataType="Int16" BlockXSize="256" BlockYSize="256" />
      <SrcRect xOff="0" yOff="0" xSize="100000" ySize="100000" />
      <DstRect xOff="300000" yOff="900000" xSize="100000" ySize="100000" />
      <NODATA>-32768</NODATA>
    </ComplexSource>
    <ComplexSource>
      <SourceFilename relativeToVRT="0">/vsicurl/https://vm0160.kaj.pouta.csc.fi/palus/ndsm/2024/ndsm_2024_300000_7000000.tif</SourceFilename>
      <SourceBand>1</SourceBand>
      <SourceProperties RasterXSize="100000" RasterYSize="100000" DataType="Int16" BlockXSize="256" BlockYSize="256" />
      <SrcRect xOff="0" yOff="0" xSize="100000" ySize="100000" />
      <DstRect xOff="300000" yOff="800000" xSize="100000" ySize="100000" />
      <NODATA>-32768</NODATA>
    </ComplexSource>
    <ComplexSource>
      <SourceFilename relativeToVRT="0">/vsicurl/https://vm0160.kaj.pouta.csc.fi/palus/ndsm/2024/ndsm_2024_300000_7100000.tif</SourceFilename>
      <SourceBand>1</SourceBand>
      <SourceProperties RasterXSize="100000" RasterYSize="100000" DataType="Int16" BlockXSize="256" BlockYSize="256" />
      <SrcRect xOff="0" yOff="0" xSize="100000" ySize="100000" />
      <DstRect xOff="300000" yOff="700000" xSize="100000" ySize="100000" />
      <NODATA>-32768</NODATA>
    </ComplexSource>
    <ComplexSource>
      <SourceFilename relativeToVRT="0">/vsicurl/https://vm0160.kaj.pouta.csc.fi/palus/ndsm/2024/ndsm_2024_300000_7200000.tif</SourceFilename>
      <SourceBand>1</SourceBand>
      <SourceProperties RasterXSize="100000" RasterYSize="100000" DataType="Int16" BlockXSize="256" BlockYSize="256" />
      <SrcRect xOff="0" yOff="0" xSize="100000" ySize="100000" />
      <DstRect xOff="300000" yOff="600000" xSize="100000" ySize="100000" />
      <NODATA>-32768</NODATA>
    </ComplexSource>
    <ComplexSource>
      <SourceFilename relativeToVRT="0">/vsicurl/https://vm0160.kaj.pouta.csc.fi/palus/ndsm/2024/ndsm_2024_300000_7300000.tif</SourceFilename>
      <SourceBand>1</SourceBand>
      <SourceProperties RasterXSize="100000" RasterYSize="100000" DataType="Int16" BlockXSize="256" BlockYSize="256" />
      <SrcRect xOff="0" yOff="0" xSize="100000" ySize="100000" />
      <DstRect xOff="300000" yOff="500000" xSize="100000" ySize="100000" />
      <NODATA>-32768</NODATA>
    </ComplexSource>
    <ComplexSource>
      <SourceFilename relativeToVRT="0">/vsicurl/https://vm0160.kaj.pouta.csc.fi/palus/ndsm/2024/ndsm_2024_300000_7400000.tif</SourceFilename>
      <SourceBand>1</SourceBand>
      <SourceProperties RasterXSize="100000" RasterYSize="100000" DataType="Int16" BlockXSize="256" BlockYSize="256" />
      <SrcRect xOff="0" yOff="0" xSize="100000" ySize="100000" />
      <DstRect xOff="300000" yOff="400000" xSize="100000" ySize="100000" />
      <NODATA>-32768</NODATA>
    </ComplexSource>
    <ComplexSource>
      <SourceFilename relativeToVRT="0">/vsicurl/https://vm0160.kaj.pouta.csc.fi/palus/ndsm/2024/ndsm_2024_300000_7500000.tif</SourceFilename>
      <SourceBand>1</SourceBand>
      <SourceProperties RasterXSize="100000" RasterYSize="100000" DataType="Int16" BlockXSize="256" BlockYSize="256" />
      <SrcRect xOff="0" yOff="0" xSize="100000" ySize="100000" />
      <DstRect xOff="300000" yOff="300000" xSize="100000" ySize="100000" />
      <NODATA>-32768</NODATA>
    </ComplexSource>
    <ComplexSource>
      <SourceFilename relativeToVRT="0">/vsicurl/https://vm0160.kaj.pouta.csc.fi/palus/ndsm/2024/ndsm_2024_300000_7600000.tif</SourceFilename>
      <SourceBand>1</SourceBand>
      <SourceProperties RasterXSize="100000" RasterYSize="100000" DataType="Int16" BlockXSize="256" BlockYSize="256" />
      <SrcRect xOff="0" yOff="0" xSize="100000" ySize="100000" />
      <DstRect xOff="300000" yOff="200000" xSize="100000" ySize="100000" />
      <NODATA>-32768</NODATA>
    </ComplexSource>
    <ComplexSource>
      <SourceFilename relativeToVRT="0">/vsicurl/https://vm0160.kaj.pouta.csc.fi/palus/ndsm/2024/ndsm_2024_300000_7700000.tif</SourceFilename>
      <SourceBand>1</SourceBand>
      <SourceProperties RasterXSize="100000" RasterYSize="100000" DataType="Int16" BlockXSize="256" BlockYSize="256" />
      <SrcRect xOff="0" yOff="0" xSize="100000" ySize="100000" />
      <DstRect xOff="300000" yOff="100000" xSize="100000" ySize="100000" />
      <NODATA>-32768</NODATA>
    </ComplexSource>
    <ComplexSource>
      <SourceFilename relativeToVRT="0">/vsicurl/https://vm0160.kaj.pouta.csc.fi/palus/ndsm/2024/ndsm_2024_400000_6700000.tif</SourceFilename>
      <SourceBand>1</SourceBand>
      <SourceProperties RasterXSize="100000" RasterYSize="100000" DataType="Int16" BlockXSize="256" BlockYSize="256" />
      <SrcRect xOff="0" yOff="0" xSize="100000" ySize="100000" />
      <DstRect xOff="400000" yOff="1100000" xSize="100000" ySize="100000" />
      <NODATA>-32768</NODATA>
    </ComplexSource>
    <ComplexSource>
      <SourceFilename relativeToVRT="0">/vsicurl/https://vm0160.kaj.pouta.csc.fi/palus/ndsm/2024/ndsm_2024_400000_6800000.tif</SourceFilename>
      <SourceBand>1</SourceBand>
      <SourceProperties RasterXSize="100000" RasterYSize="100000" DataType="Int16" BlockXSize="256" BlockYSize="256" />
      <SrcRect xOff="0" yOff="0" xSize="100000" ySize="100000" />
      <DstRect xOff="400000" yOff="1000000" xSize="100000" ySize="100000" />
      <NODATA>-32768</NODATA>
    </ComplexSource>
    <ComplexSource>
      <SourceFilename relativeToVRT="0">/vsicurl/https://vm0160.kaj.pouta.csc.fi/palus/ndsm/2024/ndsm_2024_400000_6900000.tif</SourceFilename>
      <SourceBand>1</SourceBand>
      <SourceProperties RasterXSize="100000" RasterYSize="100000" DataType="Int16" BlockXSize="256" BlockYSize="256" />
      <SrcRect xOff="0" yOff="0" xSize="100000" ySize="100000" />
      <DstRect xOff="400000" yOff="900000" xSize="100000" ySize="100000" />
      <NODATA>-32768</NODATA>
    </ComplexSource>
    <ComplexSource>
      <SourceFilename relativeToVRT="0">/vsicurl/https://vm0160.kaj.pouta.csc.fi/palus/ndsm/2024/ndsm_2024_400000_7000000.tif</SourceFilename>
      <SourceBand>1</SourceBand>
      <SourceProperties RasterXSize="100000" RasterYSize="100000" DataType="Int16" BlockXSize="256" BlockYSize="256" />
      <SrcRect xOff="0" yOff="0" xSize="100000" ySize="100000" />
      <DstRect xOff="400000" yOff="800000" xSize="100000" ySize="100000" />
      <NODATA>-32768</NODATA>
    </ComplexSource>
    <ComplexSource>
      <SourceFilename relativeToVRT="0">/vsicurl/https://vm0160.kaj.pouta.csc.fi/palus/ndsm/2024/ndsm_2024_400000_7100000.tif</SourceFilename>
      <SourceBand>1</SourceBand>
      <SourceProperties RasterXSize="100000" RasterYSize="100000" DataType="Int16" BlockXSize="256" BlockYSize="256" />
      <SrcRect xOff="0" yOff="0" xSize="100000" ySize="100000" />
      <DstRect xOff="400000" yOff="700000" xSize="100000" ySize="100000" />
      <NODATA>-32768</NODATA>
    </ComplexSource>
    <ComplexSource>
      <SourceFilename relativeToVRT="0">/vsicurl/https://vm0160.kaj.pouta.csc.fi/palus/ndsm/2024/ndsm_2024_400000_7200000.tif</SourceFilename>
      <SourceBand>1</SourceBand>
      <SourceProperties RasterXSize="100000" RasterYSize="100000" DataType="Int16" BlockXSize="256" BlockYSize="256" />
      <SrcRect xOff="0" yOff="0" xSize="100000" ySize="100000" />
      <DstRect xOff="400000" yOff="600000" xSize="100000" ySize="100000" />
      <NODATA>-32768</NODATA>
    </ComplexSource>
    <ComplexSource>
      <SourceFilename relativeToVRT="0">/vsicurl/https://vm0160.kaj.pouta.csc.fi/palus/ndsm/2024/ndsm_2024_400000_7300000.tif</SourceFilename>
      <SourceBand>1</SourceBand>
      <SourceProperties RasterXSize="100000" RasterYSize="100000" DataType="Int16" BlockXSize="256" BlockYSize="256" />
      <SrcRect xOff="0" yOff="0" xSize="100000" ySize="100000" />
      <DstRect xOff="400000" yOff="500000" xSize="100000" ySize="100000" />
      <NODATA>-32768</NODATA>
    </ComplexSource>
    <ComplexSource>
      <SourceFilename relativeToVRT="0">/vsicurl/https://vm0160.kaj.pouta.csc.fi/palus/ndsm/2024/ndsm_2024_400000_7400000.tif</SourceFilename>
      <SourceBand>1</SourceBand>
      <SourceProperties RasterXSize="100000" RasterYSize="100000" DataType="Int16" BlockXSize="256" BlockYSize="256" />
      <SrcRect xOff="0" yOff="0" xSize="100000" ySize="100000" />
      <DstRect xOff="400000" yOff="400000" xSize="100000" ySize="100000" />
      <NODATA>-32768</NODATA>
    </ComplexSource>
    <ComplexSource>
      <SourceFilename relativeToVRT="0">/vsicurl/https://vm0160.kaj.pouta.csc.fi/palus/ndsm/2024/ndsm_2024_400000_7500000.tif</SourceFilename>
      <SourceBand>1</SourceBand>
      <SourceProperties RasterXSize="100000" RasterYSize="100000" DataType="Int16" BlockXSize="256" BlockYSize="256" />
      <SrcRect xOff="0" yOff="0" xSize="100000" ySize="100000" />
      <DstRect xOff="400000" yOff="300000" xSize="100000" ySize="100000" />
      <NODATA>-32768</NODATA>
    </ComplexSource>
    <ComplexSource>
      <SourceFilename relativeToVRT="0">/vsicurl/https://vm0160.kaj.pouta.csc.fi/palus/ndsm/2024/ndsm_2024_400000_7600000.tif</SourceFilename>
      <SourceBand>1</SourceBand>
      <SourceProperties RasterXSize="100000" RasterYSize="100000" DataType="Int16" BlockXSize="256" BlockYSize="256" />
      <SrcRect xOff="0" yOff="0" xSize="100000" ySize="100000" />
      <DstRect xOff="400000" yOff="200000" xSize="100000" ySize="100000" />
      <NODATA>-32768</NODATA>
    </ComplexSource>
    <ComplexSource>
      <SourceFilename relativeToVRT="0">/vsicurl/https://vm0160.kaj.pouta.csc.fi/palus/ndsm/2024/ndsm_2024_400000_7700000.tif</SourceFilename>
      <SourceBand>1</SourceBand>
      <SourceProperties RasterXSize="100000" RasterYSize="100000" DataType="Int16" BlockXSize="256" BlockYSize="256" />
      <SrcRect xOff="0" yOff="0" xSize="100000" ySize="100000" />
      <DstRect xOff="400000" yOff="100000" xSize="100000" ySize="100000" />
      <NODATA>-32768</NODATA>
    </ComplexSource>
    <ComplexSource>
      <SourceFilename relativeToVRT="0">/vsicurl/https://vm0160.kaj.pouta.csc.fi/palus/ndsm/2024/ndsm_2024_400000_7800000.tif</SourceFilename>
      <SourceBand>1</SourceBand>
      <SourceProperties RasterXSize="100000" RasterYSize="100000" DataType="Int16" BlockXSize="256" BlockYSize="256" />
      <SrcRect xOff="0" yOff="0" xSize="100000" ySize="100000" />
      <DstRect xOff="400000" yOff="0" xSize="100000" ySize="100000" />
      <NODATA>-32768</NODATA>
    </ComplexSource>
    <ComplexSource>
      <SourceFilename relativeToVRT="0">/vsicurl/https://vm0160.kaj.pouta.csc.fi/palus/ndsm/2024/ndsm_2024_500000_6700000.tif</SourceFilename>
      <SourceBand>1</SourceBand>
      <SourceProperties RasterXSize="100000" RasterYSize="100000" DataType="Int16" BlockXSize="256" BlockYSize="256" />
      <SrcRect xOff="0" yOff="0" xSize="100000" ySize="100000" />
      <DstRect xOff="500000" yOff="1100000" xSize="100000" ySize="100000" />
      <NODATA>-32768</NODATA>
    </ComplexSource>
    <ComplexSource>
      <SourceFilename relativeToVRT="0">/vsicurl/https://vm0160.kaj.pouta.csc.fi/palus/ndsm/2024/ndsm_2024_500000_6800000.tif</SourceFilename>
      <SourceBand>1</SourceBand>
      <SourceProperties RasterXSize="100000" RasterYSize="100000" DataType="Int16" BlockXSize="256" BlockYSize="256" />
      <SrcRect xOff="0" yOff="0" xSize="100000" ySize="100000" />
      <DstRect xOff="500000" yOff="1000000" xSize="100000" ySize="100000" />
      <NODATA>-32768</NODATA>
    </ComplexSource>
    <ComplexSource>
      <SourceFilename relativeToVRT="0">/vsicurl/https://vm0160.kaj.pouta.csc.fi/palus/ndsm/2024/ndsm_2024_500000_6900000.tif</SourceFilename>
      <SourceBand>1</SourceBand>
      <SourceProperties RasterXSize="100000" RasterYSize="100000" DataType="Int16" BlockXSize="256" BlockYSize="256" />
      <SrcRect xOff="0" yOff="0" xSize="100000" ySize="100000" />
      <DstRect xOff="500000" yOff="900000" xSize="100000" ySize="100000" />
      <NODATA>-32768</NODATA>
    </ComplexSource>
    <ComplexSource>
      <SourceFilename relativeToVRT="0">/vsicurl/https://vm0160.kaj.pouta.csc.fi/palus/ndsm/2024/ndsm_2024_500000_7000000.tif</SourceFilename>
      <SourceBand>1</SourceBand>
      <SourceProperties RasterXSize="100000" RasterYSize="100000" DataType="Int16" BlockXSize="256" BlockYSize="256" />
      <SrcRect xOff="0" yOff="0" xSize="100000" ySize="100000" />
      <DstRect xOff="500000" yOff="800000" xSize="100000" ySize="100000" />
      <NODATA>-32768</NODATA>
    </ComplexSource>
    <ComplexSource>
      <SourceFilename relativeToVRT="0">/vsicurl/https://vm0160.kaj.pouta.csc.fi/palus/ndsm/2024/ndsm_2024_500000_7100000.tif</SourceFilename>
      <SourceBand>1</SourceBand>
      <SourceProperties RasterXSize="100000" RasterYSize="100000" DataType="Int16" BlockXSize="256" BlockYSize="256" />
      <SrcRect xOff="0" yOff="0" xSize="100000" ySize="100000" />
      <DstRect xOff="500000" yOff="700000" xSize="100000" ySize="100000" />
      <NODATA>-32768</NODATA>
    </ComplexSource>
    <ComplexSource>
      <SourceFilename relativeToVRT="0">/vsicurl/https://vm0160.kaj.pouta.csc.fi/palus/ndsm/2024/ndsm_2024_500000_7200000.tif</SourceFilename>
      <SourceBand>1</SourceBand>
      <SourceProperties RasterXSize="100000" RasterYSize="100000" DataType="Int16" BlockXSize="256" BlockYSize="256" />
      <SrcRect xOff="0" yOff="0" xSize="100000" ySize="100000" />
      <DstRect xOff="500000" yOff="600000" xSize="100000" ySize="100000" />
      <NODATA>-32768</NODATA>
    </ComplexSource>
    <ComplexSource>
      <SourceFilename relativeToVRT="0">/vsicurl/https://vm0160.kaj.pouta.csc.fi/palus/ndsm/2024/ndsm_2024_500000_7300000.tif</SourceFilename>
      <SourceBand>1</SourceBand>
      <SourceProperties RasterXSize="100000" RasterYSize="100000" DataType="Int16" BlockXSize="256" BlockYSize="256" />
      <SrcRect xOff="0" yOff="0" xSize="100000" ySize="100000" />
      <DstRect xOff="500000" yOff="500000" xSize="100000" ySize="100000" />
      <NODATA>-32768</NODATA>
    </ComplexSource>
    <ComplexSource>
      <SourceFilename relativeToVRT="0">/vsicurl/https://vm0160.kaj.pouta.csc.fi/palus/ndsm/2024/ndsm_2024_500000_7400000.tif</SourceFilename>
      <SourceBand>1</SourceBand>
