<VRTDataset rasterXSize="100000" rasterYSize="100000">
  <SRS dataAxisToSRSAxisMapping="1,2">PROJCS["ETRS89 / TM35FIN(E,N)",GEOGCS["ETRS89",DATUM["European_Terrestrial_Reference_System_1989",SPHEROID["GRS 1980",6378137,298.257222101,AUTHORITY["EPSG","7019"]],AUTHORITY["EPSG","6258"]],PRIMEM["Greenwich",0,AUTHORITY["EPSG","8901"]],UNIT["degree",0.0174532925199433,AUTHORITY["EPSG","9122"]],AUTHORITY["EPSG","4258"]],PROJECTION["Transverse_Mercator"],PARAMETER["latitude_of_origin",0],PARAMETER["central_meridian",27],PARAMETER["scale_factor",0.9996],PARAMETER["false_easting",500000],PARAMETER["false_northing",0],UNIT["metre",1,AUTHORITY["EPSG","9001"]],AXIS["Easting",EAST],AXIS["Northing",NORTH],AUTHORITY["EPSG","3067"]]</SRS>
  <GeoTransform>  4.0000000000000000e+05,  1.0000000000000000e+00,  0.0000000000000000e+00,  6.9000000000000000e+06,  0.0000000000000000e+00, -1.0000000000000000e+00</GeoTransform>
  <VRTRasterBand dataType="Int16" band="1">
    <NoDataValue>-32768</NoDataValue>
    <ColorInterp>Gray</ColorInterp>
    <ComplexSource>
      <SourceFilename relativeToVRT="0">/vsicurl/https://vm0160.kaj.pouta.csc.fi/palus/ndsm/2024/ndsm_2024_400000_6900000_1m.tif</SourceFilename>
      <SourceBand>1</SourceBand>
      <SourceProperties RasterXSize="100000" RasterYSize="100000" DataType="Int16" BlockXSize="256" BlockYSize="256"/>
      <SrcRect xOff="0" yOff="0" xSize="100000" ySize="100000"/>
      <DstRect xOff="0" yOff="0" xSize="100000" ySize="100000"/>
      <NODATA>-32768</NODATA>
    </ComplexSource>
    <Overview>
      <SourceFilename relativeToVRT="0">/vsicurl/https://vm0160.kaj.pouta.csc.fi/palus/ndsm/2024/ndsm_2024_400000_6900000_2m.tif</SourceFilename>
      <SourceBand>1</SourceBand>
    </Overview>
    <Overview>
      <SourceFilename relativeToVRT="0">/vsicurl/https://vm0160.kaj.pouta.csc.fi/palus/ndsm/2024/ndsm_2024_400000_6900000_5m.tif</SourceFilename>
      <SourceBand>1</SourceBand>
    </Overview>
    <Overview>
      <SourceFilename relativeToVRT="0">/vsicurl/https://vm0160.kaj.pouta.csc.fi/palus/ndsm/2024/ndsm_2024_400000_6900000_10m.tif</SourceFilename>
      <SourceBand>1</SourceBand>
    </Overview>
    <Overview>
      <SourceFilename relativeToVRT="0">/vsicurl/https://vm0160.kaj.pouta.csc.fi/palus/ndsm/2024/ndsm_2024_400000_6900000_20m.tif</SourceFilename>
      <SourceBand>1</SourceBand>
    </Overview>
    <Overview>
      <SourceFilename relativeToVRT="0">/vsicurl/https://vm0160.kaj.pouta.csc.fi/palus/ndsm/2024/ndsm_2024_400000_6900000_50m.tif</SourceFilename>
      <SourceBand>1</SourceBand>
    </Overview>
    <Overview>
      <SourceFilename relativeToVRT="0">/vsicurl/https://vm0160.kaj.pouta.csc.fi/palus/ndsm/2024/ndsm_2024_400000_6900000_100m.tif</SourceFilename>
      <SourceBand>1</SourceBand>
    </Overview>
    <Overview>
      <SourceFilename relativeToVRT="0">/vsicurl/https://vm0160.kaj.pouta.csc.fi/palus/ndsm/2024/ndsm_2024_400000_6900000_200m.tif</SourceFilename>
      <SourceBand>1</SourceBand>
    </Overview>
    <Overview>
      <SourceFilename relativeToVRT="0">/vsicurl/https://vm0160.kaj.pouta.csc.fi/palus/ndsm/2024/ndsm_2024_400000_6900000_500m.tif</SourceFilename>
      <SourceBand>1</SourceBand>
    </Overview>
    <Overview>
      <SourceFilename relativeToVRT="0">/vsicurl/https://vm0160.kaj.pouta.csc.fi/palus/ndsm/2024/ndsm_2024_400000_6900000_1000m.tif</SourceFilename>
      <SourceBand>1</SourceBand>
    </Overview>
  </VRTRasterBand>
</VRTDataset>
