<VRTDataset rasterXSize="800" rasterYSize="1200">
  <SRS dataAxisToSRSAxisMapping="1,2">PROJCS["ETRS89 / TM35FIN(E,N)",GEOGCS["ETRS89",DATUM["European_Terrestrial_Reference_System_1989",SPHEROID["GRS 1980",6378137,298.257222101,AUTHORITY["EPSG","7019"]],AUTHORITY["EPSG","6258"]],PRIMEM["Greenwich",0,AUTHORITY["EPSG","8901"]],UNIT["degree",0.0174532925199433,AUTHORITY["EPSG","9122"]],AUTHORITY["EPSG","4258"]],PROJECTION["Transverse_Mercator"],PARAMETER["latitude_of_origin",0],PARAMETER["central_meridian",27],PARAMETER["scale_factor",0.9996],PARAMETER["false_easting",500000],PARAMETER["false_northing",0],UNIT["metre",1,AUTHORITY["EPSG","9001"]],AXIS["Easting",EAST],AXIS["Northing",NORTH],AUTHORITY["EPSG","3067"]]</SRS>
  <GeoTransform>  0.0000000000000000e+00,  1.0000000000000000e+03,  0.0000000000000000e+00,  7.8000000000000000e+06,  0.0000000000000000e+00, -1.0000000000000000e+03</GeoTransform>
  <VRTRasterBand dataType="Int16" band="1">
    <NoDataValue>-32768</NoDataValue>
    <ColorInterp>Gray</ColorInterp>
    <ComplexSource>
      <SourceFilename relativeToVRT="0">/vsicurl/https://vm0160.kaj.pouta.csc.fi/palus/ndsm/2025/ndsm_2025_0_6700000_1000m.tif</SourceFilename>
      <SourceBand>1</SourceBand>
      <SourceProperties RasterXSize="100" RasterYSize="100" DataType="Int16" BlockXSize="256" BlockYSize="256" />
      <SrcRect xOff="0" yOff="0" xSize="100" ySize="100" />
      <DstRect xOff="0" yOff="1100" xSize="100" ySize="100" />
      <NODATA>-32768</NODATA>
    </ComplexSource>
    <ComplexSource>
      <SourceFilename relativeToVRT="0">/vsicurl/https://vm0160.kaj.pouta.csc.fi/palus/ndsm/2025/ndsm_2025_0_6800000_1000m.tif</SourceFilename>
      <SourceBand>1</SourceBand>
      <SourceProperties RasterXSize="100" RasterYSize="100" DataType="Int16" BlockXSize="256" BlockYSize="256" />
      <SrcRect xOff="0" yOff="0" xSize="100" ySize="100" />
      <DstRect xOff="0" yOff="1000" xSize="100" ySize="100" />
      <NODATA>-32768</NODATA>
    </ComplexSource>
    <ComplexSource>
      <SourceFilename relativeToVRT="0">/vsicurl/https://vm0160.kaj.pouta.csc.fi/palus/ndsm/2025/ndsm_2025_100000_6700000_1000m.tif</SourceFilename>
      <SourceBand>1</SourceBand>
      <SourceProperties RasterXSize="100" RasterYSize="100" DataType="Int16" BlockXSize="256" BlockYSize="256" />
      <SrcRect xOff="0" yOff="0" xSize="100" ySize="100" />
      <DstRect xOff="100" yOff="1100" xSize="100" ySize="100" />
      <NODATA>-32768</NODATA>
    </ComplexSource>
    <ComplexSource>
      <SourceFilename relativeToVRT="0">/vsicurl/https://vm0160.kaj.pouta.csc.fi/palus/ndsm/2025/ndsm_2025_100000_6800000_1000m.tif</SourceFilename>
      <SourceBand>1</SourceBand>
      <SourceProperties RasterXSize="100" RasterYSize="100" DataType="Int16" BlockXSize="256" BlockYSize="256" />
      <SrcRect xOff="0" yOff="0" xSize="100" ySize="100" />
      <DstRect xOff="100" yOff="1000" xSize="100" ySize="100" />
      <NODATA>-32768</NODATA>
    </ComplexSource>
    <ComplexSource>
      <SourceFilename relativeToVRT="0">/vsicurl/https://vm0160.kaj.pouta.csc.fi/palus/ndsm/2025/ndsm_2025_100000_6900000_1000m.tif</SourceFilename>
      <SourceBand>1</SourceBand>
      <SourceProperties RasterXSize="100" RasterYSize="100" DataType="Int16" BlockXSize="256" BlockYSize="256" />
      <SrcRect xOff="0" yOff="0" xSize="100" ySize="100" />
      <DstRect xOff="100" yOff="900" xSize="100" ySize="100" />
      <NODATA>-32768</NODATA>
    </ComplexSource>
    <ComplexSource>
      <SourceFilename relativeToVRT="0">/vsicurl/https://vm0160.kaj.pouta.csc.fi/palus/ndsm/2025/ndsm_2025_100000_7000000_1000m.tif</SourceFilename>
      <SourceBand>1</SourceBand>
      <SourceProperties RasterXSize="100" RasterYSize="100" DataType="Int16" BlockXSize="256" BlockYSize="256" />
      <SrcRect xOff="0" yOff="0" xSize="100" ySize="100" />
      <DstRect xOff="100" yOff="800" xSize="100" ySize="100" />
      <NODATA>-32768</NODATA>
    </ComplexSource>
    <ComplexSource>
      <SourceFilename relativeToVRT="0">/vsicurl/https://vm0160.kaj.pouta.csc.fi/palus/ndsm/2025/ndsm_2025_100000_7100000_1000m.tif</SourceFilename>
      <SourceBand>1</SourceBand>
      <SourceProperties RasterXSize="100" RasterYSize="100" DataType="Int16" BlockXSize="256" BlockYSize="256" />
      <SrcRect xOff="0" yOff="0" xSize="100" ySize="100" />
      <DstRect xOff="100" yOff="700" xSize="100" ySize="100" />
      <NODATA>-32768</NODATA>
    </ComplexSource>
    <ComplexSource>
      <SourceFilename relativeToVRT="0">/vsicurl/https://vm0160.kaj.pouta.csc.fi/palus/ndsm/2025/ndsm_2025_200000_6700000_1000m.tif</SourceFilename>
      <SourceBand>1</SourceBand>
      <SourceProperties RasterXSize="100" RasterYSize="100" DataType="Int16" BlockXSize="256" BlockYSize="256" />
      <SrcRect xOff="0" yOff="0" xSize="100" ySize="100" />
      <DstRect xOff="200" yOff="1100" xSize="100" ySize="100" />
      <NODATA>-32768</NODATA>
    </ComplexSource>
    <ComplexSource>
      <SourceFilename relativeToVRT="0">/vsicurl/https://vm0160.kaj.pouta.csc.fi/palus/ndsm/2025/ndsm_2025_200000_6800000_1000m.tif</SourceFilename>
      <SourceBand>1</SourceBand>
      <SourceProperties RasterXSize="100" RasterYSize="100" DataType="Int16" BlockXSize="256" BlockYSize="256" />
      <SrcRect xOff="0" yOff="0" xSize="100" ySize="100" />
      <DstRect xOff="200" yOff="1000" xSize="100" ySize="100" />
      <NODATA>-32768</NODATA>
    </ComplexSource>
    <ComplexSource>
      <SourceFilename relativeToVRT="0">/vsicurl/https://vm0160.kaj.pouta.csc.fi/palus/ndsm/2025/ndsm_2025_200000_6900000_1000m.tif</SourceFilename>
      <SourceBand>1</SourceBand>
      <SourceProperties RasterXSize="100" RasterYSize="100" DataType="Int16" BlockXSize="256" BlockYSize="256" />
      <SrcRect xOff="0" yOff="0" xSize="100" ySize="100" />
      <DstRect xOff="200" yOff="900" xSize="100" ySize="100" />
      <NODATA>-32768</NODATA>
    </ComplexSource>
    <ComplexSource>
      <SourceFilename relativeToVRT="0">/vsicurl/https://vm0160.kaj.pouta.csc.fi/palus/ndsm/2025/ndsm_2025_200000_7000000_1000m.tif</SourceFilename>
      <SourceBand>1</SourceBand>
      <SourceProperties RasterXSize="100" RasterYSize="100" DataType="Int16" BlockXSize="256" BlockYSize="256" />
      <SrcRect xOff="0" yOff="0" xSize="100" ySize="100" />
      <DstRect xOff="200" yOff="800" xSize="100" ySize="100" />
      <NODATA>-32768</NODATA>
    </ComplexSource>
    <ComplexSource>
      <SourceFilename relativeToVRT="0">/vsicurl/https://vm0160.kaj.pouta.csc.fi/palus/ndsm/2025/ndsm_2025_200000_7100000_1000m.tif</SourceFilename>
      <SourceBand>1</SourceBand>
      <SourceProperties RasterXSize="100" RasterYSize="100" DataType="Int16" BlockXSize="256" BlockYSize="256" />
      <SrcRect xOff="0" yOff="0" xSize="100" ySize="100" />
      <DstRect xOff="200" yOff="700" xSize="100" ySize="100" />
      <NODATA>-32768</NODATA>
    </ComplexSource>
    <ComplexSource>
      <SourceFilename relativeToVRT="0">/vsicurl/https://vm0160.kaj.pouta.csc.fi/palus/ndsm/2025/ndsm_2025_200000_7200000_1000m.tif</SourceFilename>
      <SourceBand>1</SourceBand>
      <SourceProperties RasterXSize="100" RasterYSize="100" DataType="Int16" BlockXSize="256" BlockYSize="256" />
      <SrcRect xOff="0" yOff="0" xSize="100" ySize="100" />
      <DstRect xOff="200" yOff="600" xSize="100" ySize="100" />
      <NODATA>-32768</NODATA>
    </ComplexSource>
    <ComplexSource>
      <SourceFilename relativeToVRT="0">/vsicurl/https://vm0160.kaj.pouta.csc.fi/palus/ndsm/2025/ndsm_2025_200000_7700000_1000m.tif</SourceFilename>
      <SourceBand>1</SourceBand>
      <SourceProperties RasterXSize="100" RasterYSize="100" DataType="Int16" BlockXSize="256" BlockYSize="256" />
      <SrcRect xOff="0" yOff="0" xSize="100" ySize="100" />
      <DstRect xOff="200" yOff="100" xSize="100" ySize="100" />
      <NODATA>-32768</NODATA>
    </ComplexSource>
    <ComplexSource>
      <SourceFilename relativeToVRT="0">/vsicurl/https://vm0160.kaj.pouta.csc.fi/palus/ndsm/2025/ndsm_2025_300000_6700000_1000m.tif</SourceFilename>
      <SourceBand>1</SourceBand>
      <SourceProperties RasterXSize="100" RasterYSize="100" DataType="Int16" BlockXSize="256" BlockYSize="256" />
      <SrcRect xOff="0" yOff="0" xSize="100" ySize="100" />
      <DstRect xOff="300" yOff="1100" xSize="100" ySize="100" />
      <NODATA>-32768</NODATA>
    </ComplexSource>
    <ComplexSource>
      <SourceFilename relativeToVRT="0">/vsicurl/https://vm0160.kaj.pouta.csc.fi/palus/ndsm/2025/ndsm_2025_300000_6800000_1000m.tif</SourceFilename>
      <SourceBand>1</SourceBand>
      <SourceProperties RasterXSize="100" RasterYSize="100" DataType="Int16" BlockXSize="256" BlockYSize="256" />
      <SrcRect xOff="0" yOff="0" xSize="100" ySize="100" />
      <DstRect xOff="300" yOff="1000" xSize="100" ySize="100" />
      <NODATA>-32768</NODATA>
    </ComplexSource>
    <ComplexSource>
      <SourceFilename relativeToVRT="0">/vsicurl/https://vm0160.kaj.pouta.csc.fi/palus/ndsm/2025/ndsm_2025_300000_6900000_1000m.tif</SourceFilename>
      <SourceBand>1</SourceBand>
      <SourceProperties RasterXSize="100" RasterYSize="100" DataType="Int16" BlockXSize="256" BlockYSize="256" />
      <SrcRect xOff="0" yOff="0" xSize="100" ySize="100" />
      <DstRect xOff="300" yOff="900" xSize="100" ySize="100" />
      <NODATA>-32768</NODATA>
    </ComplexSource>
    <ComplexSource>
      <SourceFilename relativeToVRT="0">/vsicurl/https://vm0160.kaj.pouta.csc.fi/palus/ndsm/2025/ndsm_2025_300000_7000000_1000m.tif</SourceFilename>
      <SourceBand>1</SourceBand>
      <SourceProperties RasterXSize="100" RasterYSize="100" DataType="Int16" BlockXSize="256" BlockYSize="256" />
      <SrcRect xOff="0" yOff="0" xSize="100" ySize="100" />
      <DstRect xOff="300" yOff="800" xSize="100" ySize="100" />
      <NODATA>-32768</NODATA>
    </ComplexSource>
    <ComplexSource>
      <SourceFilename relativeToVRT="0">/vsicurl/https://vm0160.kaj.pouta.csc.fi/palus/ndsm/2025/ndsm_2025_300000_7100000_1000m.tif</SourceFilename>
      <SourceBand>1</SourceBand>
      <SourceProperties RasterXSize="100" RasterYSize="100" DataType="Int16" BlockXSize="256" BlockYSize="256" />
      <SrcRect xOff="0" yOff="0" xSize="100" ySize="100" />
      <DstRect xOff="300" yOff="700" xSize="100" ySize="100" />
      <NODATA>-32768</NODATA>
    </ComplexSource>
    <ComplexSource>
      <SourceFilename relativeToVRT="0">/vsicurl/https://vm0160.kaj.pouta.csc.fi/palus/ndsm/2025/ndsm_2025_300000_7200000_1000m.tif</SourceFilename>
      <SourceBand>1</SourceBand>
      <SourceProperties RasterXSize="100" RasterYSize="100" DataType="Int16" BlockXSize="256" BlockYSize="256" />
      <SrcRect xOff="0" yOff="0" xSize="100" ySize="100" />
      <DstRect xOff="300" yOff="600" xSize="100" ySize="100" />
      <NODATA>-32768</NODATA>
    </ComplexSource>
    <ComplexSource>
      <SourceFilename relativeToVRT="0">/vsicurl/https://vm0160.kaj.pouta.csc.fi/palus/ndsm/2025/ndsm_2025_300000_7300000_1000m.tif</SourceFilename>
      <SourceBand>1</SourceBand>
      <SourceProperties RasterXSize="100" RasterYSize="100" DataType="Int16" BlockXSize="256" BlockYSize="256" />
      <SrcRect xOff="0" yOff="0" xSize="100" ySize="100" />
      <DstRect xOff="300" yOff="500" xSize="100" ySize="100" />
      <NODATA>-32768</NODATA>
    </ComplexSource>
    <ComplexSource>
      <SourceFilename relativeToVRT="0">/vsicurl/https://vm0160.kaj.pouta.csc.fi/palus/ndsm/2025/ndsm_2025_300000_7400000_1000m.tif</SourceFilename>
      <SourceBand>1</SourceBand>
      <SourceProperties RasterXSize="100" RasterYSize="100" DataType="Int16" BlockXSize="256" BlockYSize="256" />
      <SrcRect xOff="0" yOff="0" xSize="100" ySize="100" />
      <DstRect xOff="300" yOff="400" xSize="100" ySize="100" />
      <NODATA>-32768</NODATA>
    </ComplexSource>
    <ComplexSource>
      <SourceFilename relativeToVRT="0">/vsicurl/https://vm0160.kaj.pouta.csc.fi/palus/ndsm/2025/ndsm_2025_300000_7500000_1000m.tif</SourceFilename>
      <SourceBand>1</SourceBand>
      <SourceProperties RasterXSize="100" RasterYSize="100" DataType="Int16" BlockXSize="256" BlockYSize="256" />
      <SrcRect xOff="0" yOff="0" xSize="100" ySize="100" />
      <DstRect xOff="300" yOff="300" xSize="100" ySize="100" />
      <NODATA>-32768</NODATA>
    </ComplexSource>
    <ComplexSource>
      <SourceFilename relativeToVRT="0">/vsicurl/https://vm0160.kaj.pouta.csc.fi/palus/ndsm/2025/ndsm_2025_300000_7600000_1000m.tif</SourceFilename>
      <SourceBand>1</SourceBand>
      <SourceProperties RasterXSize="100" RasterYSize="100" DataType="Int16" BlockXSize="256" BlockYSize="256" />
      <SrcRect xOff="0" yOff="0" xSize="100" ySize="100" />
      <DstRect xOff="300" yOff="200" xSize="100" ySize="100" />
      <NODATA>-32768</NODATA>
    </ComplexSource>
    <ComplexSource>
      <SourceFilename relativeToVRT="0">/vsicurl/https://vm0160.kaj.pouta.csc.fi/palus/ndsm/2025/ndsm_2025_300000_7700000_1000m.tif</SourceFilename>
      <SourceBand>1</SourceBand>
      <SourceProperties RasterXSize="100" RasterYSize="100" DataType="Int16" BlockXSize="256" BlockYSize="256" />
      <SrcRect xOff="0" yOff="0" xSize="100" ySize="100" />
      <DstRect xOff="300" yOff="100" xSize="100" ySize="100" />
      <NODATA>-32768</NODATA>
    </ComplexSource>
    <ComplexSource>
      <SourceFilename relativeToVRT="0">/vsicurl/https://vm0160.kaj.pouta.csc.fi/palus/ndsm/2025/ndsm_2025_400000_6700000_1000m.tif</SourceFilename>
      <SourceBand>1</SourceBand>
      <SourceProperties RasterXSize="100" RasterYSize="100" DataType="Int16" BlockXSize="256" BlockYSize="256" />
      <SrcRect xOff="0" yOff="0" xSize="100" ySize="100" />
      <DstRect xOff="400" yOff="1100" xSize="100" ySize="100" />
      <NODATA>-32768</NODATA>
    </ComplexSource>
    <ComplexSource>
      <SourceFilename relativeToVRT="0">/vsicurl/https://vm0160.kaj.pouta.csc.fi/palus/ndsm/2025/ndsm_2025_400000_6800000_1000m.tif</SourceFilename>
      <SourceBand>1</SourceBand>
      <SourceProperties RasterXSize="100" RasterYSize="100" DataType="Int16" BlockXSize="256" BlockYSize="256" />
      <SrcRect xOff="0" yOff="0" xSize="100" ySize="100" />
      <DstRect xOff="400" yOff="1000" xSize="100" ySize="100" />
      <NODATA>-32768</NODATA>
    </ComplexSource>
    <ComplexSource>
      <SourceFilename relativeToVRT="0">/vsicurl/https://vm0160.kaj.pouta.csc.fi/palus/ndsm/2025/ndsm_2025_400000_6900000_1000m.tif</SourceFilename>
      <SourceBand>1</SourceBand>
      <SourceProperties RasterXSize="100" RasterYSize="100" DataType="Int16" BlockXSize="256" BlockYSize="256" />
      <SrcRect xOff="0" yOff="0" xSize="100" ySize="100" />
      <DstRect xOff="400" yOff="900" xSize="100" ySize="100" />
      <NODATA>-32768</NODATA>
    </ComplexSource>
    <ComplexSource>
      <SourceFilename relativeToVRT="0">/vsicurl/https://vm0160.kaj.pouta.csc.fi/palus/ndsm/2025/ndsm_2025_400000_7000000_1000m.tif</SourceFilename>
      <SourceBand>1</SourceBand>
      <SourceProperties RasterXSize="100" RasterYSize="100" DataType="Int16" BlockXSize="256" BlockYSize="256" />
      <SrcRect xOff="0" yOff="0" xSize="100" ySize="100" />
      <DstRect xOff="400" yOff="800" xSize="100" ySize="100" />
      <NODATA>-32768</NODATA>
    </ComplexSource>
    <ComplexSource>
      <SourceFilename relativeToVRT="0">/vsicurl/https://vm0160.kaj.pouta.csc.fi/palus/ndsm/2025/ndsm_2025_400000_7100000_1000m.tif</SourceFilename>
      <SourceBand>1</SourceBand>
      <SourceProperties RasterXSize="100" RasterYSize="100" DataType="Int16" BlockXSize="256" BlockYSize="256" />
      <SrcRect xOff="0" yOff="0" xSize="100" ySize="100" />
      <DstRect xOff="400" yOff="700" xSize="100" ySize="100" />
      <NODATA>-32768</NODATA>
    </ComplexSource>
    <ComplexSource>
      <SourceFilename relativeToVRT="0">/vsicurl/https://vm0160.kaj.pouta.csc.fi/palus/ndsm/2025/ndsm_2025_400000_7200000_1000m.tif</SourceFilename>
      <SourceBand>1</SourceBand>
      <SourceProperties RasterXSize="100" RasterYSize="100" DataType="Int16" BlockXSize="256" BlockYSize="256" />
      <SrcRect xOff="0" yOff="0" xSize="100" ySize="100" />
      <DstRect xOff="400" yOff="600" xSize="100" ySize="100" />
      <NODATA>-32768</NODATA>
    </ComplexSource>
    <ComplexSource>
      <SourceFilename relativeToVRT="0">/vsicurl/https://vm0160.kaj.pouta.csc.fi/palus/ndsm/2025/ndsm_2025_400000_7300000_1000m.tif</SourceFilename>
      <SourceBand>1</SourceBand>
      <SourceProperties RasterXSize="100" RasterYSize="100" DataType="Int16" BlockXSize="256" BlockYSize="256" />
      <SrcRect xOff="0" yOff="0" xSize="100" ySize="100" />
      <DstRect xOff="400" yOff="500" xSize="100" ySize="100" />
      <NODATA>-32768</NODATA>
    </ComplexSource>
    <ComplexSource>
      <SourceFilename relativeToVRT="0">/vsicurl/https://vm0160.kaj.pouta.csc.fi/palus/ndsm/2025/ndsm_2025_400000_7400000_1000m.tif</SourceFilename>
      <SourceBand>1</SourceBand>
      <SourceProperties RasterXSize="100" RasterYSize="100" DataType="Int16" BlockXSize="256" BlockYSize="256" />
      <SrcRect xOff="0" yOff="0" xSize="100" ySize="100" />
      <DstRect xOff="400" yOff="400" xSize="100" ySize="100" />
      <NODATA>-32768</NODATA>
    </ComplexSource>
    <ComplexSource>
      <SourceFilename relativeToVRT="0">/vsicurl/https://vm0160.kaj.pouta.csc.fi/palus/ndsm/2025/ndsm_2025_400000_7500000_1000m.tif</SourceFilename>
      <SourceBand>1</SourceBand>
      <SourceProperties RasterXSize="100" RasterYSize="100" DataType="Int16" BlockXSize="256" BlockYSize="256" />
      <SrcRect xOff="0" yOff="0" xSize="100" ySize="100" />
      <DstRect xOff="400" yOff="300" xSize="100" ySize="100" />
      <NODATA>-32768</NODATA>
    </ComplexSource>
    <ComplexSource>
      <SourceFilename relativeToVRT="0">/vsicurl/https://vm0160.kaj.pouta.csc.fi/palus/ndsm/2025/ndsm_2025_400000_7600000_1000m.tif</SourceFilename>
      <SourceBand>1</SourceBand>
      <SourceProperties RasterXSize="100" RasterYSize="100" DataType="Int16" BlockXSize="256" BlockYSize="256" />
      <SrcRect xOff="0" yOff="0" xSize="100" ySize="100" />
      <DstRect xOff="400" yOff="200" xSize="100" ySize="100" />
      <NODATA>-32768</NODATA>
    </ComplexSource>
    <ComplexSource>
      <SourceFilename relativeToVRT="0">/vsicurl/https://vm0160.kaj.pouta.csc.fi/palus/ndsm/2025/ndsm_2025_400000_7700000_1000m.tif</SourceFilename>
      <SourceBand>1</SourceBand>
      <SourceProperties RasterXSize="100" RasterYSize="100" DataType="Int16" BlockXSize="256" BlockYSize="256" />
      <SrcRect xOff="0" yOff="0" xSize="100" ySize="100" />
      <DstRect xOff="400" yOff="100" xSize="100" ySize="100" />
      <NODATA>-32768</NODATA>
    </ComplexSource>
    <ComplexSource>
      <SourceFilename relativeToVRT="0">/vsicurl/https://vm0160.kaj.pouta.csc.fi/palus/ndsm/2025/ndsm_2025_400000_7800000_1000m.tif</SourceFilename>
      <SourceBand>1</SourceBand>
      <SourceProperties RasterXSize="100" RasterYSize="100" DataType="Int16" BlockXSize="256" BlockYSize="256" />
      <SrcRect xOff="0" yOff="0" xSize="100" ySize="100" />
      <DstRect xOff="400" yOff="0" xSize="100" ySize="100" />
      <NODATA>-32768</NODATA>
    </ComplexSource>
    <ComplexSource>
      <SourceFilename relativeToVRT="0">/vsicurl/https://vm0160.kaj.pouta.csc.fi/palus/ndsm/2025/ndsm_2025_500000_6700000_1000m.tif</SourceFilename>
      <SourceBand>1</SourceBand>
      <SourceProperties RasterXSize="100" RasterYSize="100" DataType="Int16" BlockXSize="256" BlockYSize="256" />
      <SrcRect xOff="0" yOff="0" xSize="100" ySize="100" />
      <DstRect xOff="500" yOff="1100" xSize="100" ySize="100" />
      <NODATA>-32768</NODATA>
    </ComplexSource>
    <ComplexSource>
      <SourceFilename relativeToVRT="0">/vsicurl/https://vm0160.kaj.pouta.csc.fi/palus/ndsm/2025/ndsm_2025_500000_6800000_1000m.tif</SourceFilename>
      <SourceBand>1</SourceBand>
      <SourceProperties RasterXSize="100" RasterYSize="100" DataType="Int16" BlockXSize="256" BlockYSize="256" />
      <SrcRect xOff="0" yOff="0" xSize="100" ySize="100" />
      <DstRect xOff="500" yOff="1000" xSize="100" ySize="100" />
      <NODATA>-32768</NODATA>
    </ComplexSource>
    <ComplexSource>
      <SourceFilename relativeToVRT="0">/vsicurl/https://vm0160.kaj.pouta.csc.fi/palus/ndsm/2025/ndsm_2025_500000_6900000_1000m.tif</SourceFilename>
      <SourceBand>1</SourceBand>
      <SourceProperties RasterXSize="100" RasterYSize="100" DataType="Int16" BlockXSize="256" BlockYSize="256" />
      <SrcRect xOff="0" yOff="0" xSize="100" ySize="100" />
      <DstRect xOff="500" yOff="900" xSize="100" ySize="100" />
      <NODATA>-32768</NODATA>
    </ComplexSource>
    <ComplexSource>
      <SourceFilename relativeToVRT="0">/vsicurl/https://vm0160.kaj.pouta.csc.fi/palus/ndsm/2025/ndsm_2025_500000_7000000_1000m.tif</SourceFilename>
      <SourceBand>1</SourceBand>
      <SourceProperties RasterXSize="100" RasterYSize="100" DataType="Int16" BlockXSize="256" BlockYSize="256" />
      <SrcRect xOff="0" yOff="0" xSize="100" ySize="100" />
      <DstRect xOff="500" yOff="800" xSize="100" ySize="100" />
      <NODATA>-32768</NODATA>
    </ComplexSource>
    <ComplexSource>
      <SourceFilename relativeToVRT="0">/vsicurl/https://vm0160.kaj.pouta.csc.fi/palus/ndsm/2025/ndsm_2025_500000_7100000_1000m.tif</SourceFilename>
      <SourceBand>1</SourceBand>
      <SourceProperties RasterXSize="100" RasterYSize="100" DataType="Int16" BlockXSize="256" BlockYSize="256" />
      <SrcRect xOff="0" yOff="0" xSize="100" ySize="100" />
      <DstRect xOff="500" yOff="700" xSize="100" ySize="100" />
      <NODATA>-32768</NODATA>
    </ComplexSource>
    <ComplexSource>
      <SourceFilename relativeToVRT="0">/vsicurl/https://vm0160.kaj.pouta.csc.fi/palus/ndsm/2025/ndsm_2025_500000_7200000_1000m.tif</SourceFilename>
      <SourceBand>1</SourceBand>
      <SourceProperties RasterXSize="100" RasterYSize="100" DataType="Int16" BlockXSize="256" BlockYSize="256" />
      <SrcRect xOff="0" yOff="0" xSize="100" ySize="100" />
      <DstRect xOff="500" yOff="600" xSize="100" ySize="100" />
      <NODATA>-32768</NODATA>
    </ComplexSource>
    <ComplexSource>
      <SourceFilename relativeToVRT="0">/vsicurl/https://vm0160.kaj.pouta.csc.fi/palus/ndsm/2025/ndsm_2025_500000_7300000_1000m.tif</SourceFilename>
      <SourceBand>1</SourceBand>
      <SourceProperties RasterXSize="100" RasterYSize="100" DataType="Int16" BlockXSize="256" BlockYSize="256" />
      <SrcRect xOff="0" yOff="0" xSize="100" ySize="100" />
      <DstRect xOff="500" yOff="500" xSize="100" ySize="100" />
      <NODATA>-32768</NODATA>
    </ComplexSource>
    <ComplexSource>
      <SourceFilename relativeToVRT="0">/vsicurl/https://vm0160.kaj.pouta.csc.fi/palus/ndsm/2025/ndsm_2025_500000_7400000_1000m.tif</SourceFilename>
      <SourceBand>1</SourceBand>
      <SourceProperties RasterXSize="100" RasterYSize="100" DataType="Int16" BlockXSize="256" BlockYSize="256" />
      <SrcRect xOff="0" yOff="0" xSize="100" ySize="100" />
      <DstRect xOff="500" yOff="400" xSize="100" ySize="100" />
      <NODATA>-32768</NODATA>
    </ComplexSource>
    <ComplexSource>
      <SourceFilename relativeToVRT="0">/vsicurl/https://vm0160.kaj.pouta.csc.fi/palus/ndsm/2025/ndsm_2025_500000_7500000_1000m.tif</SourceFilename>
      <SourceBand>1</SourceBand>
      <SourceProperties RasterXSize="100" RasterYSize="100" DataType="Int16" BlockXSize="256" BlockYSize="256" />
      <SrcRect xOff="0" yOff="0" xSize="100" ySize="100" />
      <DstRect xOff="500" yOff="300" xSize="100" ySize="100" />
      <NODATA>-32768</NODATA>
    </ComplexSource>
    <ComplexSource>
      <SourceFilename relativeToVRT="0">/vsicurl/https://vm0160.kaj.pouta.csc.fi/palus/ndsm/2025/ndsm_2025_500000_7600000_1000m.tif</SourceFilename>
      <SourceBand>1</SourceBand>
      <SourceProperties RasterXSize="100" RasterYSize="100" DataType="Int16" BlockXSize="256" BlockYSize="256" />
      <SrcRect xOff="0" yOff="0" xSize="100" ySize="100" />
