<VRTDataset rasterXSize="4000" rasterYSize="6000">
  <SRS dataAxisToSRSAxisMapping="1,2">PROJCS["ETRS89 / TM35FIN(E,N)",GEOGCS["ETRS89",DATUM["European_Terrestrial_Reference_System_1989",SPHEROID["GRS 1980",6378137,298.257222101,AUTHORITY["EPSG","7019"]],AUTHORITY["EPSG","6258"]],PRIMEM["Greenwich",0,AUTHORITY["EPSG","8901"]],UNIT["degree",0.0174532925199433,AUTHORITY["EPSG","9122"]],AUTHORITY["EPSG","4258"]],PROJECTION["Transverse_Mercator"],PARAMETER["latitude_of_origin",0],PARAMETER["central_meridian",27],PARAMETER["scale_factor",0.9996],PARAMETER["false_easting",500000],PARAMETER["false_northing",0],UNIT["metre",1,AUTHORITY["EPSG","9001"]],AXIS["Easting",EAST],AXIS["Northing",NORTH],AUTHORITY["EPSG","3067"]]</SRS>
  <GeoTransform>  0.0000000000000000e+00,  2.0000000000000000e+02,  0.0000000000000000e+00,  7.8000000000000000e+06,  0.0000000000000000e+00, -2.0000000000000000e+02</GeoTransform>
  <VRTRasterBand dataType="Int16" band="1">
    <NoDataValue>-32768</NoDataValue>
    <ColorInterp>Gray</ColorInterp>
    <ComplexSource>
      <SourceFilename relativeToVRT="0">/vsicurl/https://vm0160.kaj.pouta.csc.fi/palus/ndsm/2025/ndsm_2025_0_6700000_200m.tif</SourceFilename>
      <SourceBand>1</SourceBand>
      <SourceProperties RasterXSize="500" RasterYSize="500" DataType="Int16" BlockXSize="256" BlockYSize="256" />
      <SrcRect xOff="0" yOff="0" xSize="500" ySize="500" />
      <DstRect xOff="0" yOff="5500" xSize="500" ySize="500" />
      <NODATA>-32768</NODATA>
    </ComplexSource>
    <ComplexSource>
      <SourceFilename relativeToVRT="0">/vsicurl/https://vm0160.kaj.pouta.csc.fi/palus/ndsm/2025/ndsm_2025_0_6800000_200m.tif</SourceFilename>
      <SourceBand>1</SourceBand>
      <SourceProperties RasterXSize="500" RasterYSize="500" DataType="Int16" BlockXSize="256" BlockYSize="256" />
      <SrcRect xOff="0" yOff="0" xSize="500" ySize="500" />
      <DstRect xOff="0" yOff="5000" xSize="500" ySize="500" />
      <NODATA>-32768</NODATA>
    </ComplexSource>
    <ComplexSource>
      <SourceFilename relativeToVRT="0">/vsicurl/https://vm0160.kaj.pouta.csc.fi/palus/ndsm/2025/ndsm_2025_100000_6700000_200m.tif</SourceFilename>
      <SourceBand>1</SourceBand>
      <SourceProperties RasterXSize="500" RasterYSize="500" DataType="Int16" BlockXSize="256" BlockYSize="256" />
      <SrcRect xOff="0" yOff="0" xSize="500" ySize="500" />
      <DstRect xOff="500" yOff="5500" xSize="500" ySize="500" />
      <NODATA>-32768</NODATA>
    </ComplexSource>
    <ComplexSource>
      <SourceFilename relativeToVRT="0">/vsicurl/https://vm0160.kaj.pouta.csc.fi/palus/ndsm/2025/ndsm_2025_100000_6800000_200m.tif</SourceFilename>
      <SourceBand>1</SourceBand>
      <SourceProperties RasterXSize="500" RasterYSize="500" DataType="Int16" BlockXSize="256" BlockYSize="256" />
      <SrcRect xOff="0" yOff="0" xSize="500" ySize="500" />
      <DstRect xOff="500" yOff="5000" xSize="500" ySize="500" />
      <NODATA>-32768</NODATA>
    </ComplexSource>
    <ComplexSource>
      <SourceFilename relativeToVRT="0">/vsicurl/https://vm0160.kaj.pouta.csc.fi/palus/ndsm/2025/ndsm_2025_100000_6900000_200m.tif</SourceFilename>
      <SourceBand>1</SourceBand>
      <SourceProperties RasterXSize="500" RasterYSize="500" DataType="Int16" BlockXSize="256" BlockYSize="256" />
      <SrcRect xOff="0" yOff="0" xSize="500" ySize="500" />
      <DstRect xOff="500" yOff="4500" xSize="500" ySize="500" />
      <NODATA>-32768</NODATA>
    </ComplexSource>
    <ComplexSource>
      <SourceFilename relativeToVRT="0">/vsicurl/https://vm0160.kaj.pouta.csc.fi/palus/ndsm/2025/ndsm_2025_100000_7000000_200m.tif</SourceFilename>
      <SourceBand>1</SourceBand>
      <SourceProperties RasterXSize="500" RasterYSize="500" DataType="Int16" BlockXSize="256" BlockYSize="256" />
      <SrcRect xOff="0" yOff="0" xSize="500" ySize="500" />
      <DstRect xOff="500" yOff="4000" xSize="500" ySize="500" />
      <NODATA>-32768</NODATA>
    </ComplexSource>
    <ComplexSource>
      <SourceFilename relativeToVRT="0">/vsicurl/https://vm0160.kaj.pouta.csc.fi/palus/ndsm/2025/ndsm_2025_100000_7100000_200m.tif</SourceFilename>
      <SourceBand>1</SourceBand>
      <SourceProperties RasterXSize="500" RasterYSize="500" DataType="Int16" BlockXSize="256" BlockYSize="256" />
      <SrcRect xOff="0" yOff="0" xSize="500" ySize="500" />
      <DstRect xOff="500" yOff="3500" xSize="500" ySize="500" />
      <NODATA>-32768</NODATA>
    </ComplexSource>
    <ComplexSource>
      <SourceFilename relativeToVRT="0">/vsicurl/https://vm0160.kaj.pouta.csc.fi/palus/ndsm/2025/ndsm_2025_200000_6700000_200m.tif</SourceFilename>
      <SourceBand>1</SourceBand>
      <SourceProperties RasterXSize="500" RasterYSize="500" DataType="Int16" BlockXSize="256" BlockYSize="256" />
      <SrcRect xOff="0" yOff="0" xSize="500" ySize="500" />
      <DstRect xOff="1000" yOff="5500" xSize="500" ySize="500" />
      <NODATA>-32768</NODATA>
    </ComplexSource>
    <ComplexSource>
      <SourceFilename relativeToVRT="0">/vsicurl/https://vm0160.kaj.pouta.csc.fi/palus/ndsm/2025/ndsm_2025_200000_6800000_200m.tif</SourceFilename>
      <SourceBand>1</SourceBand>
      <SourceProperties RasterXSize="500" RasterYSize="500" DataType="Int16" BlockXSize="256" BlockYSize="256" />
      <SrcRect xOff="0" yOff="0" xSize="500" ySize="500" />
      <DstRect xOff="1000" yOff="5000" xSize="500" ySize="500" />
      <NODATA>-32768</NODATA>
    </ComplexSource>
    <ComplexSource>
      <SourceFilename relativeToVRT="0">/vsicurl/https://vm0160.kaj.pouta.csc.fi/palus/ndsm/2025/ndsm_2025_200000_6900000_200m.tif</SourceFilename>
      <SourceBand>1</SourceBand>
      <SourceProperties RasterXSize="500" RasterYSize="500" DataType="Int16" BlockXSize="256" BlockYSize="256" />
      <SrcRect xOff="0" yOff="0" xSize="500" ySize="500" />
      <DstRect xOff="1000" yOff="4500" xSize="500" ySize="500" />
      <NODATA>-32768</NODATA>
    </ComplexSource>
    <ComplexSource>
      <SourceFilename relativeToVRT="0">/vsicurl/https://vm0160.kaj.pouta.csc.fi/palus/ndsm/2025/ndsm_2025_200000_7000000_200m.tif</SourceFilename>
      <SourceBand>1</SourceBand>
      <SourceProperties RasterXSize="500" RasterYSize="500" DataType="Int16" BlockXSize="256" BlockYSize="256" />
      <SrcRect xOff="0" yOff="0" xSize="500" ySize="500" />
      <DstRect xOff="1000" yOff="4000" xSize="500" ySize="500" />
      <NODATA>-32768</NODATA>
    </ComplexSource>
    <ComplexSource>
      <SourceFilename relativeToVRT="0">/vsicurl/https://vm0160.kaj.pouta.csc.fi/palus/ndsm/2025/ndsm_2025_200000_7100000_200m.tif</SourceFilename>
      <SourceBand>1</SourceBand>
      <SourceProperties RasterXSize="500" RasterYSize="500" DataType="Int16" BlockXSize="256" BlockYSize="256" />
      <SrcRect xOff="0" yOff="0" xSize="500" ySize="500" />
      <DstRect xOff="1000" yOff="3500" xSize="500" ySize="500" />
      <NODATA>-32768</NODATA>
    </ComplexSource>
    <ComplexSource>
      <SourceFilename relativeToVRT="0">/vsicurl/https://vm0160.kaj.pouta.csc.fi/palus/ndsm/2025/ndsm_2025_200000_7200000_200m.tif</SourceFilename>
      <SourceBand>1</SourceBand>
      <SourceProperties RasterXSize="500" RasterYSize="500" DataType="Int16" BlockXSize="256" BlockYSize="256" />
      <SrcRect xOff="0" yOff="0" xSize="500" ySize="500" />
      <DstRect xOff="1000" yOff="3000" xSize="500" ySize="500" />
      <NODATA>-32768</NODATA>
    </ComplexSource>
    <ComplexSource>
      <SourceFilename relativeToVRT="0">/vsicurl/https://vm0160.kaj.pouta.csc.fi/palus/ndsm/2025/ndsm_2025_200000_7700000_200m.tif</SourceFilename>
      <SourceBand>1</SourceBand>
      <SourceProperties RasterXSize="500" RasterYSize="500" DataType="Int16" BlockXSize="256" BlockYSize="256" />
      <SrcRect xOff="0" yOff="0" xSize="500" ySize="500" />
      <DstRect xOff="1000" yOff="500" xSize="500" ySize="500" />
      <NODATA>-32768</NODATA>
    </ComplexSource>
    <ComplexSource>
      <SourceFilename relativeToVRT="0">/vsicurl/https://vm0160.kaj.pouta.csc.fi/palus/ndsm/2025/ndsm_2025_300000_6700000_200m.tif</SourceFilename>
      <SourceBand>1</SourceBand>
      <SourceProperties RasterXSize="500" RasterYSize="500" DataType="Int16" BlockXSize="256" BlockYSize="256" />
      <SrcRect xOff="0" yOff="0" xSize="500" ySize="500" />
      <DstRect xOff="1500" yOff="5500" xSize="500" ySize="500" />
      <NODATA>-32768</NODATA>
    </ComplexSource>
    <ComplexSource>
      <SourceFilename relativeToVRT="0">/vsicurl/https://vm0160.kaj.pouta.csc.fi/palus/ndsm/2025/ndsm_2025_300000_6800000_200m.tif</SourceFilename>
      <SourceBand>1</SourceBand>
      <SourceProperties RasterXSize="500" RasterYSize="500" DataType="Int16" BlockXSize="256" BlockYSize="256" />
      <SrcRect xOff="0" yOff="0" xSize="500" ySize="500" />
      <DstRect xOff="1500" yOff="5000" xSize="500" ySize="500" />
      <NODATA>-32768</NODATA>
    </ComplexSource>
    <ComplexSource>
      <SourceFilename relativeToVRT="0">/vsicurl/https://vm0160.kaj.pouta.csc.fi/palus/ndsm/2025/ndsm_2025_300000_6900000_200m.tif</SourceFilename>
      <SourceBand>1</SourceBand>
      <SourceProperties RasterXSize="500" RasterYSize="500" DataType="Int16" BlockXSize="256" BlockYSize="256" />
      <SrcRect xOff="0" yOff="0" xSize="500" ySize="500" />
      <DstRect xOff="1500" yOff="4500" xSize="500" ySize="500" />
      <NODATA>-32768</NODATA>
    </ComplexSource>
    <ComplexSource>
      <SourceFilename relativeToVRT="0">/vsicurl/https://vm0160.kaj.pouta.csc.fi/palus/ndsm/2025/ndsm_2025_300000_7000000_200m.tif</SourceFilename>
      <SourceBand>1</SourceBand>
      <SourceProperties RasterXSize="500" RasterYSize="500" DataType="Int16" BlockXSize="256" BlockYSize="256" />
      <SrcRect xOff="0" yOff="0" xSize="500" ySize="500" />
      <DstRect xOff="1500" yOff="4000" xSize="500" ySize="500" />
      <NODATA>-32768</NODATA>
    </ComplexSource>
    <ComplexSource>
      <SourceFilename relativeToVRT="0">/vsicurl/https://vm0160.kaj.pouta.csc.fi/palus/ndsm/2025/ndsm_2025_300000_7100000_200m.tif</SourceFilename>
      <SourceBand>1</SourceBand>
      <SourceProperties RasterXSize="500" RasterYSize="500" DataType="Int16" BlockXSize="256" BlockYSize="256" />
      <SrcRect xOff="0" yOff="0" xSize="500" ySize="500" />
      <DstRect xOff="1500" yOff="3500" xSize="500" ySize="500" />
      <NODATA>-32768</NODATA>
    </ComplexSource>
    <ComplexSource>
      <SourceFilename relativeToVRT="0">/vsicurl/https://vm0160.kaj.pouta.csc.fi/palus/ndsm/2025/ndsm_2025_300000_7200000_200m.tif</SourceFilename>
      <SourceBand>1</SourceBand>
      <SourceProperties RasterXSize="500" RasterYSize="500" DataType="Int16" BlockXSize="256" BlockYSize="256" />
      <SrcRect xOff="0" yOff="0" xSize="500" ySize="500" />
      <DstRect xOff="1500" yOff="3000" xSize="500" ySize="500" />
      <NODATA>-32768</NODATA>
    </ComplexSource>
    <ComplexSource>
      <SourceFilename relativeToVRT="0">/vsicurl/https://vm0160.kaj.pouta.csc.fi/palus/ndsm/2025/ndsm_2025_300000_7300000_200m.tif</SourceFilename>
      <SourceBand>1</SourceBand>
      <SourceProperties RasterXSize="500" RasterYSize="500" DataType="Int16" BlockXSize="256" BlockYSize="256" />
      <SrcRect xOff="0" yOff="0" xSize="500" ySize="500" />
      <DstRect xOff="1500" yOff="2500" xSize="500" ySize="500" />
      <NODATA>-32768</NODATA>
    </ComplexSource>
    <ComplexSource>
      <SourceFilename relativeToVRT="0">/vsicurl/https://vm0160.kaj.pouta.csc.fi/palus/ndsm/2025/ndsm_2025_300000_7400000_200m.tif</SourceFilename>
      <SourceBand>1</SourceBand>
      <SourceProperties RasterXSize="500" RasterYSize="500" DataType="Int16" BlockXSize="256" BlockYSize="256" />
      <SrcRect xOff="0" yOff="0" xSize="500" ySize="500" />
      <DstRect xOff="1500" yOff="2000" xSize="500" ySize="500" />
      <NODATA>-32768</NODATA>
    </ComplexSource>
    <ComplexSource>
      <SourceFilename relativeToVRT="0">/vsicurl/https://vm0160.kaj.pouta.csc.fi/palus/ndsm/2025/ndsm_2025_300000_7500000_200m.tif</SourceFilename>
      <SourceBand>1</SourceBand>
      <SourceProperties RasterXSize="500" RasterYSize="500" DataType="Int16" BlockXSize="256" BlockYSize="256" />
      <SrcRect xOff="0" yOff="0" xSize="500" ySize="500" />
      <DstRect xOff="1500" yOff="1500" xSize="500" ySize="500" />
      <NODATA>-32768</NODATA>
    </ComplexSource>
    <ComplexSource>
      <SourceFilename relativeToVRT="0">/vsicurl/https://vm0160.kaj.pouta.csc.fi/palus/ndsm/2025/ndsm_2025_300000_7600000_200m.tif</SourceFilename>
      <SourceBand>1</SourceBand>
      <SourceProperties RasterXSize="500" RasterYSize="500" DataType="Int16" BlockXSize="256" BlockYSize="256" />
      <SrcRect xOff="0" yOff="0" xSize="500" ySize="500" />
      <DstRect xOff="1500" yOff="1000" xSize="500" ySize="500" />
      <NODATA>-32768</NODATA>
    </ComplexSource>
    <ComplexSource>
      <SourceFilename relativeToVRT="0">/vsicurl/https://vm0160.kaj.pouta.csc.fi/palus/ndsm/2025/ndsm_2025_300000_7700000_200m.tif</SourceFilename>
      <SourceBand>1</SourceBand>
      <SourceProperties RasterXSize="500" RasterYSize="500" DataType="Int16" BlockXSize="256" BlockYSize="256" />
      <SrcRect xOff="0" yOff="0" xSize="500" ySize="500" />
      <DstRect xOff="1500" yOff="500" xSize="500" ySize="500" />
      <NODATA>-32768</NODATA>
    </ComplexSource>
    <ComplexSource>
      <SourceFilename relativeToVRT="0">/vsicurl/https://vm0160.kaj.pouta.csc.fi/palus/ndsm/2025/ndsm_2025_400000_6700000_200m.tif</SourceFilename>
      <SourceBand>1</SourceBand>
      <SourceProperties RasterXSize="500" RasterYSize="500" DataType="Int16" BlockXSize="256" BlockYSize="256" />
      <SrcRect xOff="0" yOff="0" xSize="500" ySize="500" />
      <DstRect xOff="2000" yOff="5500" xSize="500" ySize="500" />
      <NODATA>-32768</NODATA>
    </ComplexSource>
    <ComplexSource>
      <SourceFilename relativeToVRT="0">/vsicurl/https://vm0160.kaj.pouta.csc.fi/palus/ndsm/2025/ndsm_2025_400000_6800000_200m.tif</SourceFilename>
      <SourceBand>1</SourceBand>
      <SourceProperties RasterXSize="500" RasterYSize="500" DataType="Int16" BlockXSize="256" BlockYSize="256" />
      <SrcRect xOff="0" yOff="0" xSize="500" ySize="500" />
      <DstRect xOff="2000" yOff="5000" xSize="500" ySize="500" />
      <NODATA>-32768</NODATA>
    </ComplexSource>
    <ComplexSource>
      <SourceFilename relativeToVRT="0">/vsicurl/https://vm0160.kaj.pouta.csc.fi/palus/ndsm/2025/ndsm_2025_400000_6900000_200m.tif</SourceFilename>
      <SourceBand>1</SourceBand>
      <SourceProperties RasterXSize="500" RasterYSize="500" DataType="Int16" BlockXSize="256" BlockYSize="256" />
      <SrcRect xOff="0" yOff="0" xSize="500" ySize="500" />
      <DstRect xOff="2000" yOff="4500" xSize="500" ySize="500" />
      <NODATA>-32768</NODATA>
    </ComplexSource>
    <ComplexSource>
      <SourceFilename relativeToVRT="0">/vsicurl/https://vm0160.kaj.pouta.csc.fi/palus/ndsm/2025/ndsm_2025_400000_7000000_200m.tif</SourceFilename>
      <SourceBand>1</SourceBand>
      <SourceProperties RasterXSize="500" RasterYSize="500" DataType="Int16" BlockXSize="256" BlockYSize="256" />
      <SrcRect xOff="0" yOff="0" xSize="500" ySize="500" />
      <DstRect xOff="2000" yOff="4000" xSize="500" ySize="500" />
      <NODATA>-32768</NODATA>
    </ComplexSource>
    <ComplexSource>
      <SourceFilename relativeToVRT="0">/vsicurl/https://vm0160.kaj.pouta.csc.fi/palus/ndsm/2025/ndsm_2025_400000_7100000_200m.tif</SourceFilename>
      <SourceBand>1</SourceBand>
      <SourceProperties RasterXSize="500" RasterYSize="500" DataType="Int16" BlockXSize="256" BlockYSize="256" />
      <SrcRect xOff="0" yOff="0" xSize="500" ySize="500" />
      <DstRect xOff="2000" yOff="3500" xSize="500" ySize="500" />
      <NODATA>-32768</NODATA>
    </ComplexSource>
    <ComplexSource>
      <SourceFilename relativeToVRT="0">/vsicurl/https://vm0160.kaj.pouta.csc.fi/palus/ndsm/2025/ndsm_2025_400000_7200000_200m.tif</SourceFilename>
      <SourceBand>1</SourceBand>
      <SourceProperties RasterXSize="500" RasterYSize="500" DataType="Int16" BlockXSize="256" BlockYSize="256" />
      <SrcRect xOff="0" yOff="0" xSize="500" ySize="500" />
      <DstRect xOff="2000" yOff="3000" xSize="500" ySize="500" />
      <NODATA>-32768</NODATA>
    </ComplexSource>
    <ComplexSource>
      <SourceFilename relativeToVRT="0">/vsicurl/https://vm0160.kaj.pouta.csc.fi/palus/ndsm/2025/ndsm_2025_400000_7300000_200m.tif</SourceFilename>
      <SourceBand>1</SourceBand>
      <SourceProperties RasterXSize="500" RasterYSize="500" DataType="Int16" BlockXSize="256" BlockYSize="256" />
      <SrcRect xOff="0" yOff="0" xSize="500" ySize="500" />
      <DstRect xOff="2000" yOff="2500" xSize="500" ySize="500" />
      <NODATA>-32768</NODATA>
    </ComplexSource>
    <ComplexSource>
      <SourceFilename relativeToVRT="0">/vsicurl/https://vm0160.kaj.pouta.csc.fi/palus/ndsm/2025/ndsm_2025_400000_7400000_200m.tif</SourceFilename>
      <SourceBand>1</SourceBand>
      <SourceProperties RasterXSize="500" RasterYSize="500" DataType="Int16" BlockXSize="256" BlockYSize="256" />
      <SrcRect xOff="0" yOff="0" xSize="500" ySize="500" />
      <DstRect xOff="2000" yOff="2000" xSize="500" ySize="500" />
      <NODATA>-32768</NODATA>
    </ComplexSource>
    <ComplexSource>
      <SourceFilename relativeToVRT="0">/vsicurl/https://vm0160.kaj.pouta.csc.fi/palus/ndsm/2025/ndsm_2025_400000_7500000_200m.tif</SourceFilename>
      <SourceBand>1</SourceBand>
      <SourceProperties RasterXSize="500" RasterYSize="500" DataType="Int16" BlockXSize="256" BlockYSize="256" />
      <SrcRect xOff="0" yOff="0" xSize="500" ySize="500" />
      <DstRect xOff="2000" yOff="1500" xSize="500" ySize="500" />
      <NODATA>-32768</NODATA>
    </ComplexSource>
    <ComplexSource>
      <SourceFilename relativeToVRT="0">/vsicurl/https://vm0160.kaj.pouta.csc.fi/palus/ndsm/2025/ndsm_2025_400000_7600000_200m.tif</SourceFilename>
      <SourceBand>1</SourceBand>
      <SourceProperties RasterXSize="500" RasterYSize="500" DataType="Int16" BlockXSize="256" BlockYSize="256" />
      <SrcRect xOff="0" yOff="0" xSize="500" ySize="500" />
      <DstRect xOff="2000" yOff="1000" xSize="500" ySize="500" />
      <NODATA>-32768</NODATA>
    </ComplexSource>
    <ComplexSource>
      <SourceFilename relativeToVRT="0">/vsicurl/https://vm0160.kaj.pouta.csc.fi/palus/ndsm/2025/ndsm_2025_400000_7700000_200m.tif</SourceFilename>
      <SourceBand>1</SourceBand>
      <SourceProperties RasterXSize="500" RasterYSize="500" DataType="Int16" BlockXSize="256" BlockYSize="256" />
      <SrcRect xOff="0" yOff="0" xSize="500" ySize="500" />
      <DstRect xOff="2000" yOff="500" xSize="500" ySize="500" />
      <NODATA>-32768</NODATA>
    </ComplexSource>
    <ComplexSource>
      <SourceFilename relativeToVRT="0">/vsicurl/https://vm0160.kaj.pouta.csc.fi/palus/ndsm/2025/ndsm_2025_400000_7800000_200m.tif</SourceFilename>
      <SourceBand>1</SourceBand>
      <SourceProperties RasterXSize="500" RasterYSize="500" DataType="Int16" BlockXSize="256" BlockYSize="256" />
      <SrcRect xOff="0" yOff="0" xSize="500" ySize="500" />
      <DstRect xOff="2000" yOff="0" xSize="500" ySize="500" />
      <NODATA>-32768</NODATA>
    </ComplexSource>
    <ComplexSource>
      <SourceFilename relativeToVRT="0">/vsicurl/https://vm0160.kaj.pouta.csc.fi/palus/ndsm/2025/ndsm_2025_500000_6700000_200m.tif</SourceFilename>
      <SourceBand>1</SourceBand>
      <SourceProperties RasterXSize="500" RasterYSize="500" DataType="Int16" BlockXSize="256" BlockYSize="256" />
      <SrcRect xOff="0" yOff="0" xSize="500" ySize="500" />
      <DstRect xOff="2500" yOff="5500" xSize="500" ySize="500" />
      <NODATA>-32768</NODATA>
    </ComplexSource>
    <ComplexSource>
      <SourceFilename relativeToVRT="0">/vsicurl/https://vm0160.kaj.pouta.csc.fi/palus/ndsm/2025/ndsm_2025_500000_6800000_200m.tif</SourceFilename>
      <SourceBand>1</SourceBand>
      <SourceProperties RasterXSize="500" RasterYSize="500" DataType="Int16" BlockXSize="256" BlockYSize="256" />
      <SrcRect xOff="0" yOff="0" xSize="500" ySize="500" />
      <DstRect xOff="2500" yOff="5000" xSize="500" ySize="500" />
      <NODATA>-32768</NODATA>
    </ComplexSource>
    <ComplexSource>
      <SourceFilename relativeToVRT="0">/vsicurl/https://vm0160.kaj.pouta.csc.fi/palus/ndsm/2025/ndsm_2025_500000_6900000_200m.tif</SourceFilename>
      <SourceBand>1</SourceBand>
      <SourceProperties RasterXSize="500" RasterYSize="500" DataType="Int16" BlockXSize="256" BlockYSize="256" />
      <SrcRect xOff="0" yOff="0" xSize="500" ySize="500" />
      <DstRect xOff="2500" yOff="4500" xSize="500" ySize="500" />
      <NODATA>-32768</NODATA>
    </ComplexSource>
    <ComplexSource>
      <SourceFilename relativeToVRT="0">/vsicurl/https://vm0160.kaj.pouta.csc.fi/palus/ndsm/2025/ndsm_2025_500000_7000000_200m.tif</SourceFilename>
      <SourceBand>1</SourceBand>
      <SourceProperties RasterXSize="500" RasterYSize="500" DataType="Int16" BlockXSize="256" BlockYSize="256" />
      <SrcRect xOff="0" yOff="0" xSize="500" ySize="500" />
      <DstRect xOff="2500" yOff="4000" xSize="500" ySize="500" />
      <NODATA>-32768</NODATA>
    </ComplexSource>
    <ComplexSource>
      <SourceFilename relativeToVRT="0">/vsicurl/https://vm0160.kaj.pouta.csc.fi/palus/ndsm/2025/ndsm_2025_500000_7100000_200m.tif</SourceFilename>
      <SourceBand>1</SourceBand>
      <SourceProperties RasterXSize="500" RasterYSize="500" DataType="Int16" BlockXSize="256" BlockYSize="256" />
      <SrcRect xOff="0" yOff="0" xSize="500" ySize="500" />
      <DstRect xOff="2500" yOff="3500" xSize="500" ySize="500" />
      <NODATA>-32768</NODATA>
    </ComplexSource>
    <ComplexSource>
      <SourceFilename relativeToVRT="0">/vsicurl/https://vm0160.kaj.pouta.csc.fi/palus/ndsm/2025/ndsm_2025_500000_7200000_200m.tif</SourceFilename>
      <SourceBand>1</SourceBand>
      <SourceProperties RasterXSize="500" RasterYSize="500" DataType="Int16" BlockXSize="256" BlockYSize="256" />
      <SrcRect xOff="0" yOff="0" xSize="500" ySize="500" />
      <DstRect xOff="2500" yOff="3000" xSize="500" ySize="500" />
      <NODATA>-32768</NODATA>
    </ComplexSource>
    <ComplexSource>
      <SourceFilename relativeToVRT="0">/vsicurl/https://vm0160.kaj.pouta.csc.fi/palus/ndsm/2025/ndsm_2025_500000_7300000_200m.tif</SourceFilename>
      <SourceBand>1</SourceBand>
      <SourceProperties RasterXSize="500" RasterYSize="500" DataType="Int16" BlockXSize="256" BlockYSize="256" />
      <SrcRect xOff="0" yOff="0" xSize="500" ySize="500" />
      <DstRect xOff="2500" yOff="2500" xSize="500" ySize="500" />
      <NODATA>-32768</NODATA>
    </ComplexSource>
    <ComplexSource>
      <SourceFilename relativeToVRT="0">/vsicurl/https://vm0160.kaj.pouta.csc.fi/palus/ndsm/2025/ndsm_2025_500000_7400000_200m.tif</SourceFilename>
      <SourceBand>1</SourceBand>
      <SourceProperties RasterXSize="500" RasterYSize="500" DataType="Int16" BlockXSize="256" BlockYSize="256" />
      <SrcRect xOff="0" yOff="0" xSize="500" ySize="500" />
      <DstRect xOff="2500" yOff="2000" xSize="500" ySize="500" />
      <NODATA>-32768</NODATA>
    </ComplexSource>
    <ComplexSource>
      <SourceFilename relativeToVRT="0">/vsicurl/https://vm0160.kaj.pouta.csc.fi/palus/ndsm/2025/ndsm_2025_500000_7500000_200m.tif</SourceFilename>
      <SourceBand>1</SourceBand>
      <SourceProperties RasterXSize="500" RasterYSize="500" DataType="Int16" BlockXSize="256" BlockYSize="256" />
      <SrcRect xOff="0" yOff="0" xSize="500" ySize="500" />
      <DstRect xOff="2500" yOff="1500" xSize="500" ySize="500" />
      <NODATA>-32768</NODATA>
    </ComplexSource>
    <ComplexSource>
      <SourceFilename relativeToVRT="0">/vsicurl/https://vm0160.kaj.pouta.csc.fi/palus/ndsm/2025/ndsm_2025_500000_7600000_200m.tif</SourceFilename>
      <SourceBand>1</SourceBand>
      <SourceProperties RasterXSize="500" RasterYSize="500" DataType="Int16" BlockXSize="256" BlockYSize="256" />
